BEGIN:VCALENDAR
VERSION:2.0
PRODID:-//jEvents 2.0 for Joomla//EN
CALSCALE:GREGORIAN
METHOD:PUBLISH
BEGIN:VEVENT
UID:00ee6d02f5a27984f84e1fd293f20487
CATEGORIES:Veranstaltungen
CREATED:20211118T103751
SUMMARY:Abgabe der mündlichen Aufgaben RDP 5w
DESCRIPTION:
DTSTAMP:20260425T223354
DTSTART:20220609T060000
DTEND:20220609T100000
SEQUENCE:0
TRANSP:OPAQUE
END:VEVENT
END:VCALENDAR