BEGIN:VCALENDAR
VERSION:2.0
PRODID:-//jEvents 2.0 for Joomla//EN
CALSCALE:GREGORIAN
METHOD:PUBLISH
BEGIN:VEVENT
UID:ea804277aae001d2e16f0cbc71029f5a
CATEGORIES:Veranstaltungen
CREATED:20211118T103712
SUMMARY:Abgabe der mündlichen Aufgaben RDP 5a
DESCRIPTION:
DTSTAMP:20260425T223621
DTSTART:20220608T060000
DTEND:20220608T100000
SEQUENCE:0
TRANSP:OPAQUE
END:VEVENT
END:VCALENDAR