BEGIN:VCALENDAR
VERSION:2.0
PRODID:-//jEvents 2.0 for Joomla//EN
CALSCALE:GREGORIAN
METHOD:PUBLISH
BEGIN:VEVENT
UID:ab32bce1ed72291c0e9184b6d12639dd
CATEGORIES:Veranstaltungen
CREATED:20211118T103608
SUMMARY:Kompensationsprüfungen 5a/5w
DESCRIPTION:
DTSTAMP:20260425T223303
DTSTART:20220601T060000
DTEND:20220602T150000
SEQUENCE:0
TRANSP:OPAQUE
END:VEVENT
END:VCALENDAR