BEGIN:VCALENDAR
VERSION:2.0
PRODID:-//jEvents 2.0 for Joomla//EN
CALSCALE:GREGORIAN
METHOD:PUBLISH
BEGIN:VEVENT
UID:9bdfa0e2a05ab1667a71e8008bcfe1d2
CATEGORIES:Veranstaltungen
CREATED:20211118T103521
SUMMARY:Konferenz der PrüferInnen RDP 5w
DESCRIPTION:
DTSTAMP:20260425T204335
DTSTART:20220517T133000
DTEND:20220517T140000
SEQUENCE:0
TRANSP:OPAQUE
END:VEVENT
END:VCALENDAR