BEGIN:VCALENDAR
VERSION:2.0
PRODID:-//jEvents 2.0 for Joomla//EN
CALSCALE:GREGORIAN
METHOD:PUBLISH
BEGIN:VEVENT
UID:59de560f6a09c6fed27be1e01c8c8eaf
CATEGORIES:Veranstaltungen
CREATED:20211118T103353
SUMMARY:Konferenz der PrüferInnen RDP 5a
DESCRIPTION:
DTSTAMP:20260425T204350
DTSTART:20220517T123000
DTEND:20220517T130000
SEQUENCE:0
TRANSP:OPAQUE
END:VEVENT
END:VCALENDAR