BEGIN:VCALENDAR
VERSION:2.0
PRODID:-//jEvents 2.0 for Joomla//EN
CALSCALE:GREGORIAN
METHOD:PUBLISH
BEGIN:VEVENT
UID:d151a557dae03598d7222b369b5b43a5
CATEGORIES:Veranstaltungen
CREATED:20211118T103254
SUMMARY:Abgabe der korrigierten Arbeiten RDP 5a und 5w
DESCRIPTION:
DTSTAMP:20260425T204625
DTSTART:20220516T060000
DTEND:20220516T100000
SEQUENCE:0
TRANSP:OPAQUE
END:VEVENT
END:VCALENDAR