BEGIN:VCALENDAR
VERSION:2.0
PRODID:-//jEvents 2.0 for Joomla//EN
CALSCALE:GREGORIAN
METHOD:PUBLISH
BEGIN:VEVENT
UID:20d2db8751abd4d163c9df6dcb0eb81d
CATEGORIES:Veranstaltungen
CREATED:20211118T103151
SUMMARY:schriftliche Reife- und Diplomprüfung  BFK
DESCRIPTION:
DTSTAMP:20260425T203850
DTSTART:20220502T060000
DTEND:20220502T120000
SEQUENCE:0
TRANSP:OPAQUE
END:VEVENT
END:VCALENDAR