BEGIN:VCALENDAR
VERSION:2.0
PRODID:-//jEvents 2.0 for Joomla//EN
CALSCALE:GREGORIAN
METHOD:PUBLISH
BEGIN:VEVENT
UID:8b3092e987e6c50ffdb09b948e18b26d
CATEGORIES:Veranstaltungen
CREATED:20211118T103112
SUMMARY:Wiederholungsprüfungen 5a und 5w
DESCRIPTION:
DTSTAMP:20260425T185521
DTSTART:20220427T060000
DTEND:20220427T120000
SEQUENCE:0
TRANSP:OPAQUE
END:VEVENT
END:VCALENDAR