BEGIN:VCALENDAR
VERSION:2.0
PRODID:-//jEvents 2.0 for Joomla//EN
CALSCALE:GREGORIAN
METHOD:PUBLISH
BEGIN:VEVENT
UID:9962522820601298e6a319b9faa3170d
CATEGORIES:Veranstaltungen
CREATED:20211118T103032
SUMMARY:Coachingtage für schriftliche RDP 5a und 5w
DESCRIPTION:
DTSTAMP:20260425T202819
DTSTART:20220425T060000
DTEND:20220428T150000
SEQUENCE:0
TRANSP:OPAQUE
END:VEVENT
END:VCALENDAR