BEGIN:VCALENDAR
VERSION:2.0
PRODID:-//jEvents 2.0 for Joomla//EN
CALSCALE:GREGORIAN
METHOD:PUBLISH
BEGIN:VEVENT
UID:e1ceb75bfc099858d1f3cc896d2e94ca
CATEGORIES:Veranstaltungen
CREATED:20211118T102909
SUMMARY:Klassenkonferenz 5A
DESCRIPTION:
DTSTAMP:20260425T185455
DTSTART:20220422T130000
DTEND:20220422T140000
SEQUENCE:0
TRANSP:OPAQUE
END:VEVENT
END:VCALENDAR