BEGIN:VCALENDAR
VERSION:2.0
PRODID:-//jEvents 2.0 for Joomla//EN
CALSCALE:GREGORIAN
METHOD:PUBLISH
BEGIN:VEVENT
UID:c3142079e77008dc0089169095eab3f2
CATEGORIES:Veranstaltungen
CREATED:20211118T102626
SUMMARY:Klassenkonferenz 5W
DESCRIPTION:
DTSTAMP:20260425T203910
DTSTART:20220422T121500
DTEND:20220422T130000
SEQUENCE:0
TRANSP:OPAQUE
END:VEVENT
END:VCALENDAR