BEGIN:VCALENDAR
VERSION:2.0
PRODID:-//jEvents 2.0 for Joomla//EN
CALSCALE:GREGORIAN
METHOD:PUBLISH
BEGIN:VEVENT
UID:6c93218993520e57cfff23201edfa1d1
CATEGORIES:Veranstaltungen
CREATED:20211118T102530
SUMMARY:Notenschluss 5a und 5w
DESCRIPTION:
DTSTAMP:20260425T185505
DTSTART:20220422T060000
DTEND:20220422T100000
SEQUENCE:0
TRANSP:OPAQUE
END:VEVENT
END:VCALENDAR