BEGIN:VCALENDAR
VERSION:2.0
PRODID:-//jEvents 2.0 for Joomla//EN
CALSCALE:GREGORIAN
METHOD:PUBLISH
BEGIN:VEVENT
UID:f0971c748c4e83c751133e4533bdd384
CATEGORIES:Veranstaltungen
CREATED:20211118T102440
SUMMARY:Präsentationen Diplomarbeiten 5w
DESCRIPTION:
DTSTAMP:20260425T204157
DTSTART:20220315T070000
DTEND:20220315T160000
SEQUENCE:0
TRANSP:OPAQUE
END:VEVENT
END:VCALENDAR