BEGIN:VCALENDAR
VERSION:2.0
PRODID:-//jEvents 2.0 for Joomla//EN
CALSCALE:GREGORIAN
METHOD:PUBLISH
BEGIN:VEVENT
UID:dc714755672badb4a6a2f8756a09e347
CATEGORIES:Veranstaltungen
CREATED:20211118T102403
SUMMARY:Präsentationen Diplomarbeiten 5a 
DESCRIPTION:
DTSTAMP:20260425T204157
DTSTART:20220316T070000
DTEND:20220316T160000
SEQUENCE:0
TRANSP:OPAQUE
END:VEVENT
END:VCALENDAR