BEGIN:VCALENDAR
VERSION:2.0
PRODID:-//jEvents 2.0 for Joomla//EN
CALSCALE:GREGORIAN
METHOD:PUBLISH
BEGIN:VEVENT
UID:2006a6f8c7c01d3c9d80d3b4ef2c8c81
CATEGORIES:Veranstaltungen
CREATED:20211014T145624
SUMMARY:Vortrag in der Wirtschaftskammer: "Bedingungsloses Grundeinkommen - die größte Wirtschaftsförderung aller Zeiten"
DESCRIPTION:
DTSTAMP:20260426T000811
DTSTART:20211018T170000
DTEND:20211018T190000
SEQUENCE:0
TRANSP:OPAQUE
END:VEVENT
END:VCALENDAR