BEGIN:VCALENDAR
VERSION:2.0
PRODID:-//jEvents 2.0 for Joomla//EN
CALSCALE:GREGORIAN
METHOD:PUBLISH
BEGIN:VEVENT
UID:25f2049ffd98b1077ba7f50e273c61cd
CATEGORIES:Veranstaltungen
CREATED:20211014T144807
SUMMARY:Grippeimpfung an der HLW - nur mit Anmeldung
DESCRIPTION:
DTSTAMP:20260425T223652
DTSTART:20211111T140000
DTEND:20211111T160000
SEQUENCE:0
TRANSP:OPAQUE
END:VEVENT
END:VCALENDAR