BEGIN:VCALENDAR
VERSION:2.0
PRODID:-//jEvents 2.0 for Joomla//EN
CALSCALE:GREGORIAN
METHOD:PUBLISH
BEGIN:VEVENT
UID:fba6c924ff485d948623ab933402b56e
CATEGORIES:Veranstaltungen
CREATED:20211014T144345
SUMMARY:Praktikumsinformation 3WA,3WB,2AA,2AB - digital über Teams
DESCRIPTION:
DTSTAMP:20260425T223302
DTSTART:20211111T143000
DTEND:20211111T160000
SEQUENCE:0
TRANSP:OPAQUE
END:VEVENT
END:VCALENDAR