BEGIN:VCALENDAR
VERSION:2.0
PRODID:-//jEvents 2.0 for Joomla//EN
CALSCALE:GREGORIAN
METHOD:PUBLISH
BEGIN:VEVENT
UID:7dd5ea55ab7010ea87ffb66c1db5bb4b
CATEGORIES:Veranstaltungen
CREATED:20211014T093305
SUMMARY:Studienberatung in der Wirtschaftskammer Reutte - online
DESCRIPTION:
DTSTAMP:20260426T000443
DTSTART:20211124T095500
DTEND:20211124T114000
SEQUENCE:0
TRANSP:OPAQUE
END:VEVENT
END:VCALENDAR