BEGIN:VCALENDAR
VERSION:2.0
PRODID:-//jEvents 2.0 for Joomla//EN
CALSCALE:GREGORIAN
METHOD:PUBLISH
BEGIN:VEVENT
UID:cf66b4a624c5fb6ddb154a22b5bb792d
CATEGORIES:Veranstaltungen
CREATED:20211014T092857
SUMMARY:English in Action 3S
DESCRIPTION:
DTSTAMP:20260425T204810
DTSTART:20220221T070000
DTEND:20220225T160000
SEQUENCE:0
TRANSP:OPAQUE
END:VEVENT
END:VCALENDAR