BEGIN:VCALENDAR
VERSION:2.0
PRODID:-//jEvents 2.0 for Joomla//EN
CALSCALE:GREGORIAN
METHOD:PUBLISH
BEGIN:VEVENT
UID:87b5ad2865de2a8f1c0f06ffcc1fb9ca
CATEGORIES:Veranstaltungen
CREATED:20211014T080442
SUMMARY:Typisierungsaktion Stammzellenspender in der HLW Reutte
DESCRIPTION:
DTSTAMP:20260426T000353
DTSTART:20211022T140000
DTEND:20211022T180000
SEQUENCE:0
TRANSP:OPAQUE
END:VEVENT
END:VCALENDAR