BEGIN:VCALENDAR
VERSION:2.0
PRODID:-//jEvents 2.0 for Joomla//EN
CALSCALE:GREGORIAN
METHOD:PUBLISH
BEGIN:VEVENT
UID:5083fc12a58e605e06e044669a676b1a
CATEGORIES:Veranstaltungen
CREATED:20211008T101034
SUMMARY:Generalversammlung Interessentenverein
DESCRIPTION:
DTSTAMP:20260426T000343
DTSTART:20211020T133000
DTEND:20211020T140000
SEQUENCE:0
TRANSP:OPAQUE
END:VEVENT
END:VCALENDAR