BEGIN:VCALENDAR
VERSION:2.0
PRODID:-//jEvents 2.0 for Joomla//EN
CALSCALE:GREGORIAN
METHOD:PUBLISH
BEGIN:VEVENT
UID:be5a960c59d9795c626747236e5cf688
CATEGORIES:Veranstaltungen
CREATED:20211008T100924
SUMMARY:1.pädagogische Konferenz
DESCRIPTION:
DTSTAMP:20260426T020344
DTSTART:20211020T140000
DTEND:20211020T150000
SEQUENCE:0
TRANSP:OPAQUE
END:VEVENT
END:VCALENDAR