BEGIN:VCALENDAR
VERSION:2.0
PRODID:-//jEvents 2.0 for Joomla//EN
CALSCALE:GREGORIAN
METHOD:PUBLISH
BEGIN:VEVENT
UID:28cb53d7840f5e6c3c2b5878f18b7c3c
CATEGORIES:Veranstaltungen
CREATED:20211008T100817
SUMMARY:Cool-Einführungsseminar 1.Klassen
DESCRIPTION:
DTSTAMP:20260426T000159
DTSTART:20211011T060000
DTEND:20211011T113000
SEQUENCE:0
TRANSP:OPAQUE
END:VEVENT
END:VCALENDAR