BEGIN:VCALENDAR
VERSION:2.0
PRODID:-//jEvents 2.0 for Joomla//EN
CALSCALE:GREGORIAN
METHOD:PUBLISH
BEGIN:VEVENT
UID:f76f57fdc1f320e584e65eb12ecc3f89
CATEGORIES:Veranstaltungen
CREATED:20211006T081549
SUMMARY:virtueller Tag der offenen Tür
DESCRIPTION:
DTSTAMP:20260425T171146
DTSTART:20220114T100000
DTEND:20220114T160000
SEQUENCE:0
TRANSP:OPAQUE
END:VEVENT
END:VCALENDAR