BEGIN:VCALENDAR
VERSION:2.0
PRODID:-//jEvents 2.0 for Joomla//EN
CALSCALE:GREGORIAN
METHOD:PUBLISH
BEGIN:VEVENT
UID:c739f598c04743f776bc5bd56926cd35
CATEGORIES:Veranstaltungen
CREATED:20211004T105128
SUMMARY:Elternabend HAK 1a
DESCRIPTION:
DTSTAMP:20260426T000228
DTSTART:20211020T160000
DTEND:20211020T171500
SEQUENCE:0
TRANSP:OPAQUE
END:VEVENT
END:VCALENDAR