BEGIN:VCALENDAR
VERSION:2.0
PRODID:-//jEvents 2.0 for Joomla//EN
CALSCALE:GREGORIAN
METHOD:PUBLISH
BEGIN:VEVENT
UID:2c676610aef3ff90365bd03a6d746a90
CATEGORIES:Veranstaltungen
CREATED:20211004T105050
SUMMARY:Elternabend HTL 1Hb
DESCRIPTION:
DTSTAMP:20260426T000046
DTSTART:20211019T170000
DTEND:20211019T183000
SEQUENCE:0
TRANSP:OPAQUE
END:VEVENT
END:VCALENDAR