BEGIN:VCALENDAR
VERSION:2.0
PRODID:-//jEvents 2.0 for Joomla//EN
CALSCALE:GREGORIAN
METHOD:PUBLISH
BEGIN:VEVENT
UID:ec9ee796229a25869c7054f47aea0049
CATEGORIES:Veranstaltungen
CREATED:20211004T104908
SUMMARY:Elternabend HLW 1wb
DESCRIPTION:
DTSTAMP:20260426T000230
DTSTART:20211018T170000
DTEND:20211018T183000
SEQUENCE:0
TRANSP:OPAQUE
END:VEVENT
END:VCALENDAR