BEGIN:VCALENDAR
VERSION:2.0
PRODID:-//jEvents 2.0 for Joomla//EN
CALSCALE:GREGORIAN
METHOD:PUBLISH
BEGIN:VEVENT
UID:fc253a0b6c348693584c9b41aad2d489
CATEGORIES:Veranstaltungen
CREATED:20211004T104829
SUMMARY:Elternabend HLW 1wa
DESCRIPTION:
DTSTAMP:20260425T235923
DTSTART:20211018T153000
DTEND:20211018T164500
SEQUENCE:0
TRANSP:OPAQUE
END:VEVENT
END:VCALENDAR