BEGIN:VCALENDAR
VERSION:2.0
PRODID:-//jEvents 2.0 for Joomla//EN
CALSCALE:GREGORIAN
METHOD:PUBLISH
BEGIN:VEVENT
UID:94a43a9a6ed7810cdd3a6a76e0a5e05e
CATEGORIES:Veranstaltungen
CREATED:20211001T111324
SUMMARY:Projektwoche 4wa/4wb
DESCRIPTION:
DTSTAMP:20260426T000342
DTSTART:20211005T060000
DTEND:20211008T140000
SEQUENCE:0
TRANSP:OPAQUE
END:VEVENT
END:VCALENDAR