BEGIN:VCALENDAR
VERSION:2.0
PRODID:-//jEvents 2.0 for Joomla//EN
CALSCALE:GREGORIAN
METHOD:PUBLISH
BEGIN:VEVENT
UID:595d8c830f748c51bafc4d59527fb118
CATEGORIES:Veranstaltungen
CREATED:20210924T084013
SUMMARY:Zeugnis - Beginn Sommerferien
DESCRIPTION:
DTSTAMP:20260426T000352
DTSTART:20220708T060000
DTEND:20220708T100000
SEQUENCE:0
TRANSP:OPAQUE
END:VEVENT
END:VCALENDAR