BEGIN:VCALENDAR
VERSION:2.0
PRODID:-//jEvents 2.0 for Joomla//EN
CALSCALE:GREGORIAN
METHOD:PUBLISH
BEGIN:VEVENT
UID:966126ea0d5298590852f7f5192d0126
CATEGORIES:Veranstaltungen
CREATED:20210924T083941
SUMMARY:Aufnahmeprüfungen
DESCRIPTION:
DTSTAMP:20260426T000359
DTSTART:20220706T060000
DTEND:20220706T150000
SEQUENCE:0
TRANSP:OPAQUE
END:VEVENT
END:VCALENDAR