BEGIN:VCALENDAR
VERSION:2.0
PRODID:-//jEvents 2.0 for Joomla//EN
CALSCALE:GREGORIAN
METHOD:PUBLISH
BEGIN:VEVENT
UID:0149c9fc3b474e011737be63fe75d588
CATEGORIES:Veranstaltungen
CREATED:20210924T083909
SUMMARY:Klassenkonferenz
DESCRIPTION:
DTSTAMP:20260426T000018
DTSTART:20220701T113000
DTEND:20220701T150000
SEQUENCE:0
TRANSP:OPAQUE
END:VEVENT
END:VCALENDAR