BEGIN:VCALENDAR
VERSION:2.0
PRODID:-//jEvents 2.0 for Joomla//EN
CALSCALE:GREGORIAN
METHOD:PUBLISH
BEGIN:VEVENT
UID:296273927359a4eea1ccfddda5ee7b1d
CATEGORIES:Veranstaltungen
CREATED:20210924T083832
SUMMARY:Notenschluss
DESCRIPTION:
DTSTAMP:20260425T222330
DTSTART:20220630T060000
DTEND:20220630T120000
SEQUENCE:0
TRANSP:OPAQUE
END:VEVENT
END:VCALENDAR