BEGIN:VCALENDAR
VERSION:2.0
PRODID:-//jEvents 2.0 for Joomla//EN
CALSCALE:GREGORIAN
METHOD:PUBLISH
BEGIN:VEVENT
UID:cb9fb7c25c8fe3e262a3869ccb32db97
CATEGORIES:Veranstaltungen
CREATED:20210924T083756
SUMMARY:Beginn der Externistenprüfungen
DESCRIPTION:
DTSTAMP:20260425T222234
DTSTART:20220630T060000
DTEND:20220708T150000
SEQUENCE:0
TRANSP:OPAQUE
END:VEVENT
END:VCALENDAR