BEGIN:VCALENDAR
VERSION:2.0
PRODID:-//jEvents 2.0 for Joomla//EN
CALSCALE:GREGORIAN
METHOD:PUBLISH
BEGIN:VEVENT
UID:d741963417877b4e7bb4c14e4c6d6b20
CATEGORIES:Veranstaltungen
CREATED:20210924T083619
SUMMARY:letzter Schultag 3w
DESCRIPTION:
DTSTAMP:20260425T203944
DTSTART:20220531T060000
DTEND:20220531T150000
SEQUENCE:0
TRANSP:OPAQUE
END:VEVENT
END:VCALENDAR