BEGIN:VCALENDAR
VERSION:2.0
PRODID:-//jEvents 2.0 for Joomla//EN
CALSCALE:GREGORIAN
METHOD:PUBLISH
BEGIN:VEVENT
UID:2ff93fc5b7b2e40e29168faad993ebc5
CATEGORIES:Veranstaltungen
CREATED:20210924T083535
SUMMARY:Feiertag Pfingstmontag
DESCRIPTION:
DTSTAMP:20260425T235911
DTSTART:20220606T060000
DTEND:20220606T150000
SEQUENCE:0
TRANSP:OPAQUE
END:VEVENT
END:VCALENDAR