BEGIN:VCALENDAR
VERSION:2.0
PRODID:-//jEvents 2.0 for Joomla//EN
CALSCALE:GREGORIAN
METHOD:PUBLISH
BEGIN:VEVENT
UID:4c61d4863483b7d4d5f1636b6a6a3782
CATEGORIES:Veranstaltungen
CREATED:20210924T083508
SUMMARY:schriftliche Reife- und Diplomprüfung Italienisch
DESCRIPTION:
DTSTAMP:20260425T204012
DTSTART:20220512T060000
DTEND:20220512T110000
SEQUENCE:0
TRANSP:OPAQUE
END:VEVENT
END:VCALENDAR