BEGIN:VCALENDAR
VERSION:2.0
PRODID:-//jEvents 2.0 for Joomla//EN
CALSCALE:GREGORIAN
METHOD:PUBLISH
BEGIN:VEVENT
UID:22aa0302cdc44436ddd47d2d7261e16d
CATEGORIES:Veranstaltungen
CREATED:20210924T083419
SUMMARY:schriftliche Reife- und Diplomprüfung Französisch
DESCRIPTION:
DTSTAMP:20260425T204325
DTSTART:20220510T060000
DTEND:20220510T110000
SEQUENCE:0
TRANSP:OPAQUE
END:VEVENT
END:VCALENDAR