BEGIN:VCALENDAR
VERSION:2.0
PRODID:-//jEvents 2.0 for Joomla//EN
CALSCALE:GREGORIAN
METHOD:PUBLISH
BEGIN:VEVENT
UID:14390e9df6c280693f74667292841364
CATEGORIES:Veranstaltungen
CREATED:20210924T083344
SUMMARY:schriftliche Reife- und Diplomprüfung Englisch
DESCRIPTION:
DTSTAMP:20260425T204112
DTSTART:20220506T060000
DTEND:20220506T120000
SEQUENCE:0
TRANSP:OPAQUE
END:VEVENT
END:VCALENDAR