BEGIN:VCALENDAR
VERSION:2.0
PRODID:-//jEvents 2.0 for Joomla//EN
CALSCALE:GREGORIAN
METHOD:PUBLISH
BEGIN:VEVENT
UID:2e18128704096a5e08240ccec20b2a83
CATEGORIES:Veranstaltungen
CREATED:20210924T083315
SUMMARY:schriftliche Reife- und Diplomprüfung Deutsch
DESCRIPTION:
DTSTAMP:20260425T204823
DTSTART:20220505T060000
DTEND:20220505T120000
SEQUENCE:0
TRANSP:OPAQUE
END:VEVENT
END:VCALENDAR