BEGIN:VCALENDAR
VERSION:2.0
PRODID:-//jEvents 2.0 for Joomla//EN
CALSCALE:GREGORIAN
METHOD:PUBLISH
BEGIN:VEVENT
UID:f7b7994de26b74fbff7ff7f18ffc628d
CATEGORIES:Veranstaltungen
CREATED:20210924T083243
SUMMARY:schriftliche Reife- und Diplomprüfung Mathematik
DESCRIPTION:
DTSTAMP:20260425T211105
DTSTART:20220503T060000
DTEND:20220503T120000
SEQUENCE:0
TRANSP:OPAQUE
END:VEVENT
END:VCALENDAR