BEGIN:VCALENDAR
VERSION:2.0
PRODID:-//jEvents 2.0 for Joomla//EN
CALSCALE:GREGORIAN
METHOD:PUBLISH
BEGIN:VEVENT
UID:5a5750e1f294d7b583653444493eab19
CATEGORIES:Veranstaltungen
CREATED:20210924T083135
SUMMARY:Feiertag Christi Himmelfahrt
DESCRIPTION:
DTSTAMP:20260425T203913
DTSTART:20220526T060000
DTEND:20220526T150000
SEQUENCE:0
TRANSP:OPAQUE
END:VEVENT
END:VCALENDAR