BEGIN:VCALENDAR
VERSION:2.0
PRODID:-//jEvents 2.0 for Joomla//EN
CALSCALE:GREGORIAN
METHOD:PUBLISH
BEGIN:VEVENT
UID:0bac242b34e84494c81bf0b1d5cb5bb1
CATEGORIES:Veranstaltungen
CREATED:20210924T083037
SUMMARY:letzter Schultag 5a, 5w
DESCRIPTION:
DTSTAMP:20260425T185605
DTSTART:20220429T060000
DTEND:20220429T150000
SEQUENCE:0
TRANSP:OPAQUE
END:VEVENT
END:VCALENDAR