BEGIN:VCALENDAR
VERSION:2.0
PRODID:-//jEvents 2.0 for Joomla//EN
CALSCALE:GREGORIAN
METHOD:PUBLISH
BEGIN:VEVENT
UID:68097c517d23d388f8ee9dc5be269029
CATEGORIES:Veranstaltungen
CREATED:20210924T082953
SUMMARY:Osterferien
DESCRIPTION:
DTSTAMP:20260425T185514
DTSTART:20220411T060000
DTEND:20220418T150000
SEQUENCE:0
TRANSP:OPAQUE
END:VEVENT
END:VCALENDAR