BEGIN:VCALENDAR
VERSION:2.0
PRODID:-//jEvents 2.0 for Joomla//EN
CALSCALE:GREGORIAN
METHOD:PUBLISH
BEGIN:VEVENT
UID:952afb9d09d684059c9b1de1fbf3e5b5
CATEGORIES:Veranstaltungen
CREATED:20210924T082920
SUMMARY:Landesfeiertag Josefi - schulfrei
DESCRIPTION:
DTSTAMP:20260425T204254
DTSTART:20220319T070000
DTEND:20220319T160000
SEQUENCE:0
TRANSP:OPAQUE
END:VEVENT
END:VCALENDAR