BEGIN:VCALENDAR
VERSION:2.0
PRODID:-//jEvents 2.0 for Joomla//EN
CALSCALE:GREGORIAN
METHOD:PUBLISH
BEGIN:VEVENT
UID:9dffe4ecbac937c29ff998f57668e733
CATEGORIES:Veranstaltungen
CREATED:20210924T082842
SUMMARY:schulautonom frei
DESCRIPTION:
DTSTAMP:20260425T203844
DTSTART:20220225T070000
DTEND:20220225T160000
SEQUENCE:0
TRANSP:OPAQUE
END:VEVENT
END:VCALENDAR