BEGIN:VCALENDAR
VERSION:2.0
PRODID:-//jEvents 2.0 for Joomla//EN
CALSCALE:GREGORIAN
METHOD:PUBLISH
BEGIN:VEVENT
UID:647296686026faabe6bea826af4b332d
CATEGORIES:Veranstaltungen
CREATED:20210924T081305
SUMMARY:Unsinniger Donnerstag - schulfrei ab 13:35 Uhr
DESCRIPTION:
DTSTAMP:20260425T204334
DTSTART:20220224T070000
DTEND:20220224T123500
SEQUENCE:0
TRANSP:OPAQUE
END:VEVENT
END:VCALENDAR