BEGIN:VCALENDAR
VERSION:2.0
PRODID:-//jEvents 2.0 for Joomla//EN
CALSCALE:GREGORIAN
METHOD:PUBLISH
BEGIN:VEVENT
UID:f7755f21ca38b97eab59e0562200c174
CATEGORIES:Veranstaltungen
CREATED:20210924T080544
SUMMARY:UNI GOES REUTTE - "Dem Baustoff des Mittelalters auf der Spur" Vortrag in der Arena Ehrenberg
DESCRIPTION:
DTSTAMP:20260426T015934
DTSTART:20210929T160000
DTEND:20210929T180000
SEQUENCE:0
TRANSP:OPAQUE
END:VEVENT
END:VCALENDAR