BEGIN:VCALENDAR
VERSION:2.0
PRODID:-//jEvents 2.0 for Joomla//EN
CALSCALE:GREGORIAN
METHOD:PUBLISH
BEGIN:VEVENT
UID:c691f3514eece938f9bac582e540118e
CATEGORIES:Veranstaltungen
CREATED:20210924T080027
SUMMARY:HTL Kennenlerntag
DESCRIPTION:
DTSTAMP:20260426T032958
DTSTART:20210927T070000
DTEND:20210927T130000
SEQUENCE:0
TRANSP:OPAQUE
END:VEVENT
END:VCALENDAR