BEGIN:VCALENDAR
VERSION:2.0
PRODID:-//jEvents 2.0 for Joomla//EN
CALSCALE:GREGORIAN
METHOD:PUBLISH
BEGIN:VEVENT
UID:e3e6faf10e1ff66ad7ea570720f35948
CATEGORIES:Veranstaltungen
CREATED:20210921T133354
SUMMARY:Kino VZ Breitenwang: Politdrama "Und morgen die ganze Welt"
DESCRIPTION:
DTSTAMP:20260426T033318
DTSTART:20210928T060000
DTEND:20210928T113000
SEQUENCE:0
TRANSP:OPAQUE
END:VEVENT
END:VCALENDAR